BEGIN:VCALENDAR
VERSION:2.0
PRODID:-//The Ecolodge - ECPv6.15.20//NONSGML v1.0//EN
CALSCALE:GREGORIAN
METHOD:PUBLISH
X-ORIGINAL-URL:https://ecolodge.ecohackerfarm.org
X-WR-CALDESC:Events for The Ecolodge
REFRESH-INTERVAL;VALUE=DURATION:PT1H
X-Robots-Tag:noindex
X-PUBLISHED-TTL:PT1H
BEGIN:VTIMEZONE
TZID:UTC
BEGIN:STANDARD
TZOFFSETFROM:+0000
TZOFFSETTO:+0000
TZNAME:UTC
DTSTART:20200101T000000
END:STANDARD
END:VTIMEZONE
BEGIN:VEVENT
DTSTART;TZID=UTC:20210212T160000
DTEND;TZID=UTC:20210214T160000
DTSTAMP:20260423T221153
CREATED:20201012T124348Z
LAST-MODIFIED:20201012T124348Z
UID:490-1613145600-1613318400@ecolodge.ecohackerfarm.org
SUMMARY:Introduction to Permaculture - 3 day course
DESCRIPTION:Course details\n\nMany of us would like to learn to live more sustainably\, reducing our impact on the world and regenerating our connection with the planet and each other. Permaculture offers us tools to identify ways in which we are able to do so. \nThis course is designed to cover the Permaculture principles with an emphasis on supporting you in your journey towards Permaculture Design. \nWe will work together through theoretical and practical sessions and producing a mini-design you can take home with you to get you started. \nThis course is all about becoming empowered in your approach towards a sustainable life and Permaculture Design. \nNo prior knowledge of Permaculture is needed to attend. As a group we will benefit from collaborative learning\, we acknowledge that participants bring with them a wealth of knowledge\, skills and areas of interests. Together we will contribute to make this a fun\, lively and inclusive experience for all. \n\nCourse tutor\n\nAimee is a Permaculture teacher\, holding a Permaculture Design Certificate from the Permaculture Association UK\, taught by Aranya and Klaudia Van Gool. Aimee is also co-founder of Eco Hacker Farm and a project manager at Kuckucksmuehle where Permaculture principles are applied on a day to day basis. She is an experienced teacher and public speaker\, an advocate and activist for open source\, open knowledge and passionate about sharing her experience and knowledge with others. \n\nProgram\n\nDuring the 3 day course you will be shown around the Permaculture site where you can see how Permaculture methods and designs are applied in real life. \nIf the weather permits sessions will be held outside in nature. Please make sure you bring with you warm and comfortable clothes for inside and outside. \nDay One – Permaculture Basics: \n\n\nPermaculture history & ethics\n\n\nPrinciples of attitude and ecology\n\n\nPermaculture principles and domains\n\n\nDay Two – The Permaculture Self\, Home\, Garden and beyond: \n\n\nSocial permaculture design for personal transformation\n\n\nBuildings & structures – designing for energy efficiency\n\n\nRetrofitting methods for your home\n\n\nWater harvesting and conservation techniques\n\n\nReal wealth and wiser money in the community\n\n\nPermaculture gardening factors & techniques\n\n\nSoil basics and the soil food web\n\n\nSoil regeneration and fertility\n\n\nFruit tress\, forest gardens and urban gardening\n\n\nDay Three – Practice Permaculture Design: \n\n\nStep by step permaculture design following a design framework\n\n\nPractical design session\n\n\nSharing initial design\n\n\nA more in-depth schedule can be found here \n\nArrival & Departure\n\nParticipants should arrive between 14:00 and 15:30 to get settled in as the first session starts at 16:00. \nIf you need a lift from Liebenthal OPR/Prignitz train station please make sure you advise us the day before so that we can arrange it. \nIf you are driving here by car here are the directions. \nIf you wish to arrive earlier or the day before to enjoy the peaceful countryside please let us know in advance. \n\nLiving in community\n\nMeals will be cooked by the group for the group\, there will be organic and regional food (when possible) provided for delicious vegan meals. Tea\, snacks and fruit will also be available for between meals. If you have any food requirements please let us know as soon as you confirm your booking. \nThe group will keep the space clean and tidy so that everyone can enjoy it. \nIf you have any needs that you would like us to support you with please feel free to let us know. \n\nAccommodation\n\nAccommodation will be in shared rooms. There are some possibilities for private rooms\, if you wish to book one please let us know and we can advise you whether these are still available. \n\nBooking your place
URL:https://ecolodge.ecohackerfarm.org/event/introduction-to-permaculture-3-day-course/
LOCATION:The Ecolodge\, Kuckucksmuehle\, Ausbau 7\, Heiligengrabe\, Brandenburg\, 16909\, Germany
CATEGORIES:course,event
ORGANIZER;CN="Aimee Fenech":MAILTO:aimee@ecohackerfarm.org
END:VEVENT
END:VCALENDAR